BEGIN:VCALENDAR
VERSION:2.0
PRODID:-//Utah Public Lands Alliance - ECPv6.15.20//NONSGML v1.0//EN
CALSCALE:GREGORIAN
METHOD:PUBLISH
X-WR-CALNAME:Utah Public Lands Alliance
X-ORIGINAL-URL:https://utahpla.com
X-WR-CALDESC:Events for Utah Public Lands Alliance
REFRESH-INTERVAL;VALUE=DURATION:PT1H
X-Robots-Tag:noindex
X-PUBLISHED-TTL:PT1H
BEGIN:VTIMEZONE
TZID:America/Denver
BEGIN:DAYLIGHT
TZOFFSETFROM:-0700
TZOFFSETTO:-0600
TZNAME:MDT
DTSTART:20220313T090000
END:DAYLIGHT
BEGIN:STANDARD
TZOFFSETFROM:-0600
TZOFFSETTO:-0700
TZNAME:MST
DTSTART:20221106T080000
END:STANDARD
BEGIN:DAYLIGHT
TZOFFSETFROM:-0700
TZOFFSETTO:-0600
TZNAME:MDT
DTSTART:20230312T090000
END:DAYLIGHT
BEGIN:STANDARD
TZOFFSETFROM:-0600
TZOFFSETTO:-0700
TZNAME:MST
DTSTART:20231105T080000
END:STANDARD
BEGIN:DAYLIGHT
TZOFFSETFROM:-0700
TZOFFSETTO:-0600
TZNAME:MDT
DTSTART:20240310T090000
END:DAYLIGHT
BEGIN:STANDARD
TZOFFSETFROM:-0600
TZOFFSETTO:-0700
TZNAME:MST
DTSTART:20241103T080000
END:STANDARD
BEGIN:DAYLIGHT
TZOFFSETFROM:-0700
TZOFFSETTO:-0600
TZNAME:MDT
DTSTART:20250309T090000
END:DAYLIGHT
BEGIN:STANDARD
TZOFFSETFROM:-0600
TZOFFSETTO:-0700
TZNAME:MST
DTSTART:20251102T080000
END:STANDARD
BEGIN:DAYLIGHT
TZOFFSETFROM:-0700
TZOFFSETTO:-0600
TZNAME:MDT
DTSTART:20260308T090000
END:DAYLIGHT
BEGIN:STANDARD
TZOFFSETFROM:-0600
TZOFFSETTO:-0700
TZNAME:MST
DTSTART:20261101T080000
END:STANDARD
END:VTIMEZONE
BEGIN:VEVENT
DTSTART;VALUE=DATE:20251030
DTEND;VALUE=DATE:20251103
DTSTAMP:20260423T095222
CREATED:20230628T231349Z
LAST-MODIFIED:20250328T213620Z
UID:8609-1761782400-1762127999@utahpla.com
SUMMARY:Hump-n-Bump
DESCRIPTION:Hump’N’Bump is an internationally recognized\, low-speed\, three-day event\, where participants are guided over existing trails of varying difficulty in and around the Logandale trails and Valley of Fire recreation area. The open nature of the scenic trails and very low speeds allows for larger groups with negligible impact to the environment. \nSince 2009\, Hump’N’Bump has been based at the Clark County Fairgrounds in Logandale\, NV. The area provides an excellent venue for our event with a bandstand stage\, tables and bleachers. The location also provides hookups for up to 122 RV’s and there is a large grass area for tent camping. \nThe event includes three days of guided trail rides\, vendor booths of various products\, spectator events\, training seminars\, bonfire\, and special events that change annually. On Saturday night\, after everybody has returned to the fairgrounds from the trails and had a chance to relax\, we all move to the Glen Hardy building for a delicious dinner. Shortly after dinner\, we have a raffle for all kids 12 and under\, where each child wins a prize. Following the kids’ raffle\, we start the main event raffle\, featuring thousands of dollars worth of prizes generously donated to our event by our amazing sponsors.
URL:https://utahpla.com/event/hump-n-bump/
ATTACH;FMTTYPE=image/jpeg:https://utahpla.com/wp-content/uploads/2025/03/Image-3-17-25-at-4.34 PM.jpg
END:VEVENT
BEGIN:VEVENT
DTSTART;VALUE=DATE:20251030
DTEND;VALUE=DATE:20251104
DTSTAMP:20260423T095222
CREATED:20230628T160959Z
LAST-MODIFIED:20250328T213955Z
UID:8544-1761782400-1762214399@utahpla.com
SUMMARY:Beaver County ATV Rally
DESCRIPTION:Come to Beaver for one of the most popular events\, the Beaver Trails ATV Jamboree! Bring the family and enjoy a week of OHV/ATV fun with the fantastic trails of Beaver County\, prizes and drawings\, ice cream\, and a delicious BBQ \n\n\n\n\nBeaver County Trails ATV Jamboree App:\nApple\nGoogle
URL:https://utahpla.com/event/beaver-county-atv-rally/
ATTACH;FMTTYPE=image/jpeg:https://utahpla.com/wp-content/uploads/2025/03/Image-3-17-25-at-4.32 PM.jpg
END:VEVENT
BEGIN:VEVENT
DTSTART;VALUE=DATE:20251030
DTEND;VALUE=DATE:20251102
DTSTAMP:20260423T095222
CREATED:20230628T231523Z
LAST-MODIFIED:20250328T220056Z
UID:8618-1761782400-1762041599@utahpla.com
SUMMARY:Ticaboo Fall Rally
DESCRIPTION:More details coming soon!!
URL:https://utahpla.com/event/ticaboo-fall-rally/
ATTACH;FMTTYPE=image/jpeg:https://utahpla.com/wp-content/uploads/2025/03/Image-3-17-25-at-4.29 PM.jpg
END:VEVENT
BEGIN:VEVENT
DTSTART;VALUE=DATE:20250928
DTEND;VALUE=DATE:20251005
DTSTAMP:20260423T095222
CREATED:20230628T231309Z
LAST-MODIFIED:20250328T214200Z
UID:8604-1759017600-1759622399@utahpla.com
SUMMARY:Trail Hero
DESCRIPTION:Trail Hero is built around joining together the drive for more access and awareness to our trail system and sport. With the combination of 5 days of wheeling trails from mild to wild and our themed days\, to provide those less fortunate the opportunity to the great outdoors; Trail Hero is truly built with everyone in mind. Once done with the trails\, participants can enjoy other aspects of our sport by attending various features throughout the week like the Supercrawl World Championships\, The Trail Breaker\, and Rock Races\, all of which have start times later in the day so you can enjoy your trail ride. The idea is that we provide rock sports entertainment from every aspect of our industry so that after the trails are done\, people are not left with an empty day. This entertainment is open to the public and free of charge; however if you would like\, 4 Wheel to Heal\, U4WDA\, and Hero For A Day will be onsite collecting donations to aid our fight for land use local to the state of Utah.
URL:https://utahpla.com/event/trail-hero/
ATTACH;FMTTYPE=image/png:https://utahpla.com/wp-content/uploads/2023/06/Trail-Hero_small.png
END:VEVENT
BEGIN:VEVENT
DTSTART;VALUE=DATE:20250915
DTEND;VALUE=DATE:20250920
DTSTAMP:20260423T095222
CREATED:20230628T231142Z
LAST-MODIFIED:20250328T220439Z
UID:8595-1757894400-1758326399@utahpla.com
SUMMARY:Rocky Mountain ATV Jamboree
DESCRIPTION:The Rocky Mountain ATV Jamboree is one of the finest ATV/UTV events in Northern Utah with 86 different rides during the event.  Come out and check out one of the biggest events in Utah that attracts 500 participants from all over the country\, even the world.
URL:https://utahpla.com/event/richfieldutah-com-rocky-mountain-jamboree/
LOCATION:Richfield\, UT\, Richfield\, UT
ATTACH;FMTTYPE=image/jpeg:https://utahpla.com/wp-content/uploads/2023/06/Sevier-County-Jamboree-Taz-2x3-1-e1688058431589.jpg
END:VEVENT
BEGIN:VEVENT
DTSTART;VALUE=DATE:20250813
DTEND;VALUE=DATE:20250817
DTSTAMP:20260423T095222
CREATED:20230628T231121Z
LAST-MODIFIED:20260303T224846Z
UID:8593-1755043200-1755388799@utahpla.com
SUMMARY:Bryce ATV Rally
DESCRIPTION:Join us August 16\, 2025 and ride some of the most beautiful trails you will ever see. \nPLEASE BE AWARE THAT WE CAN ONLY ACCEPT 250 REGISTRATIONS.  IT WILL BE FIRST COME FIRST SERVE!!
URL:https://utahpla.com/event/brycerally-org/
LOCATION:Panguitch\, UT\, Panguitch\, UT
ATTACH;FMTTYPE=image/jpeg:https://utahpla.com/wp-content/uploads/2025/03/Image-3-17-25-at-3.38 PM.jpg
END:VEVENT
BEGIN:VEVENT
DTSTART;VALUE=DATE:20250625
DTEND;VALUE=DATE:20250628
DTSTAMP:20260423T095222
CREATED:20250619T185535Z
LAST-MODIFIED:20250619T185832Z
UID:10005-1750809600-1751068799@utahpla.com
SUMMARY:National ATV/UTV Jamboree
DESCRIPTION:Come and ride Utah’s beautiful Fishlake National Forest on the Paiute Trail and the Pahvant Mountain Range east of Fillmore as well as on the West Desert.
URL:https://utahpla.com/event/national-atv-utv-jamboree-2/
LOCATION:Fillmore\, UT
ATTACH;FMTTYPE=image/jpeg:https://utahpla.com/wp-content/uploads/2025/06/Image-6-19-25-at-12.54 PM.jpg
END:VEVENT
BEGIN:VEVENT
DTSTART;VALUE=DATE:20250620
DTEND;VALUE=DATE:20250622
DTSTAMP:20260423T095222
CREATED:20250619T185048Z
LAST-MODIFIED:20250619T185928Z
UID:10001-1750377600-1750550399@utahpla.com
SUMMARY:Tread Expo
DESCRIPTION:http://treadoffroadexpo.com \n\n\n\n\n\n\n\nDixie Convention Center\nSt. George\, Utah\nFriday\,  June  20th\,  11:00 a.m. – 9:00 p.m.\nSaturday\,  June  21st\,  9:00 a.m. – 8:00 p.m.\n\n\n\n\n\n\n\n\n\n\n\n\n\n\nTREAD Off-Road Expo\nGet ready for the ultimate off-road event in Southern Utah! Whether you’re passionate about Jeeps\, trucks\, or UTVs\, this is the premier gathering to explore the latest parts\, accessories\, and custom builds all in one place.\nThe TREAD Off-Road Expo brings together the off-road community to experience top brands\, aftermarket upgrades\, and exclusive deals from leading vendors. Whether you’re a seasoned pro or just getting started\, this event has everything you need—from high-performance suspension systems to rugged tires and custom fabrication—to take your build to the next level.\nMeet top industry influencers and experts\, check out some of the toughest rigs built for the wild terrain of Southern Utah\, and connect with fellow enthusiasts. Get hands-on with the newest innovations in off-road performance\, watch live product demonstrations\, and gain insider knowledge to keep your rig at peak performance.\nThis is a can’t-miss event for anyone who loves off-road customization and performance.\nMark your calendars for June 20-21\, 2025\, and join us at the Dixie Convention Center in St. George\, UT for an action-packed weekend at the TREAD Off-Road Expo!
URL:https://utahpla.com/event/tread-expo/
ATTACH;FMTTYPE=image/jpeg:https://utahpla.com/wp-content/uploads/2025/06/Image-6-19-25-at-12.47 PM.jpg
END:VEVENT
BEGIN:VEVENT
DTSTART;VALUE=DATE:20250612
DTEND;VALUE=DATE:20250614
DTSTAMP:20260423T095222
CREATED:20230628T225649Z
LAST-MODIFIED:20250328T214457Z
UID:8580-1749686400-1749859199@utahpla.com
SUMMARY:Iron Offroad Rally
DESCRIPTION:June 12-14\, 2025\n\n\n\n\n\n\n\n\n\n\n\n\n\n\nSPICE UP YOUR SUMMER!\n\n\n\nTriple S Polaris presents:  \nThe Iron Off-Road Rally in Cedar City\, Utah. \nThis spectacular event features world-class ATV trail riding combined with gorgeous views of Zion National Park\, Three Peaks Recreation Area\, Cedar Mountain\, and more! \nThe Iron Off-Road Rally is a non-competitive trail run event for ATVs & UTVs. Participants are led on trails designated for their beauty and difficulty level by experienced trail leaders. The number of vehicles on each trail is limited to ensure participants have an enjoyable experience\, so early registration is recommended! \nThe event will feature vendors\, entertainment\, activities\, and more. \nDon’t miss out on an adventure to remember in scenic Southern Utah’s unknown OHV haven!
URL:https://utahpla.com/event/iron-offroad-rally/
ATTACH;FMTTYPE=image/jpeg:https://utahpla.com/wp-content/uploads/2025/03/Image-3-17-25-at-5.15 PM.jpg
END:VEVENT
BEGIN:VEVENT
DTSTART;VALUE=DATE:20250412
DTEND;VALUE=DATE:20250421
DTSTAMP:20260423T095222
CREATED:20250327T162352Z
LAST-MODIFIED:20250328T211749Z
UID:9822-1744416000-1745193599@utahpla.com
SUMMARY:Easter Jeep Safari
DESCRIPTION:Easter Jeep Safari is the premier off-road event\, lasting 9 days with 2 days of vendor show\, attracting thousands.
URL:https://utahpla.com/event/easter-jeep-safari/
LOCATION:Moab
ATTACH;FMTTYPE=image/png:https://utahpla.com/wp-content/uploads/2025/03/Screenshot-2025-03-17-at-4.37.18 PM.png
END:VEVENT
BEGIN:VEVENT
DTSTART;VALUE=DATE:20240928
DTEND;VALUE=DATE:20240930
DTSTAMP:20260423T095222
CREATED:20231212T151358Z
LAST-MODIFIED:20231212T151419Z
UID:8929-1727481600-1727654399@utahpla.com
SUMMARY:Utah ATV Association Ride for Life
DESCRIPTION:The Utah ATV Association will be sponsoring their annual Ride for Life on September 28 and 29. Check back for Registration Information
URL:https://utahpla.com/event/utah-atv-association-ride-for-life/
ATTACH;FMTTYPE=image/png:https://utahpla.com/wp-content/uploads/2023/12/Utah-ATV-Association.png
END:VEVENT
BEGIN:VEVENT
DTSTART;TZID=America/Denver:20240720T080000
DTEND;TZID=America/Denver:20240727T170000
DTSTAMP:20260423T095222
CREATED:20231207T183710Z
LAST-MODIFIED:20231207T183710Z
UID:8923-1721462400-1722099600@utahpla.com
SUMMARY:All 4 Fun
DESCRIPTION:REGISTRATION OPENS JANUARY 1st! \n  \nThere is no better value for your money for an amazing adventure! Registration includes trail runs\, camping\, vendor show\, multiple food events\, and all of the fun you can handle at a family-friendly event! \n  \nRegistration $375 per off-road vehicle \n\nUp to 5 people (every passenger / attendee must be registered)\nIncludes BLM / Forest Service / OHV permit fees\n\nAdd-on items \n\nMHJC Limited Membership $50 per registration (required if you are not currently a club member)\nMid-week septic service for your camper or RV $50 (optional)
URL:https://utahpla.com/event/all-4-fun/
ATTACH;FMTTYPE=image/png:https://utahpla.com/wp-content/uploads/2023/12/Mile-Hi-Jeep-Club.png
END:VEVENT
BEGIN:VEVENT
DTSTART;TZID=America/Denver:20240626T080000
DTEND;TZID=America/Denver:20240628T170000
DTSTAMP:20260423T095222
CREATED:20231207T165138Z
LAST-MODIFIED:20231207T165157Z
UID:8913-1719388800-1719594000@utahpla.com
SUMMARY:National ATV/UTV Jamboree
DESCRIPTION:At the National ATV/UTV Jamboree the longest running ATV/UTV Event in America – Since 1987. \nRegistration is Open! \n  \n 
URL:https://utahpla.com/event/national-atv-utv-jamboree/
LOCATION:Territorial Statehouse State Park\, 45 West Center Street\, Fillmore\, UT\, United States
ATTACH;FMTTYPE=image/png:https://utahpla.com/wp-content/uploads/2023/12/National-ATV-Jamboree.png
END:VEVENT
BEGIN:VEVENT
DTSTART;TZID=America/Denver:20240529T080000
DTEND;TZID=America/Denver:20240601T170000
DTSTAMP:20260423T095222
CREATED:20231216T165636Z
LAST-MODIFIED:20231216T165720Z
UID:8959-1716969600-1717261200@utahpla.com
SUMMARY:Outlaw ATV Jamboree May 29-June 1\, 2024
DESCRIPTION:Registration will open February 1
URL:https://utahpla.com/event/outlaw-atv-jamboree-may-29-june-1-2024/
LOCATION:Vernal\, UT\, Vernal\, UT\, United States
ATTACH;FMTTYPE=image/png:https://utahpla.com/wp-content/uploads/2023/12/Outlaw-.png
END:VEVENT
BEGIN:VEVENT
DTSTART;TZID=America/Denver:20240516T080000
DTEND;TZID=America/Denver:20240518T170000
DTSTAMP:20260423T095222
CREATED:20231017T120710Z
LAST-MODIFIED:20231017T120901Z
UID:8810-1715846400-1716051600@utahpla.com
SUMMARY:SXS Adventure Rally
DESCRIPTION:Come enjoy the comprehensive\, majestic and varying trails of Southern Utah. You can stay within the park\, or take guided rides to stunning\, mind-blowing scenic locations throughout the Washington Valley with other SXS and UTV enthusiasts just like you! As additional routes are approved\, we will list them here\, so please check back often! \nThe Sand Hollow trails are rated anywhere from 2 to 9\, with most of the difficult obstacles having pass arounds. It is strongly encouraged that your SXS is at least 60″ wide\, with long travel suspension. 50″ trail version machines will struggle with most of the obstacles.
URL:https://utahpla.com/event/sxs-adventure-rally/
LOCATION:Sand Hollow State Park
END:VEVENT
BEGIN:VEVENT
DTSTART;VALUE=DATE:20240314
DTEND;VALUE=DATE:20240317
DTSTAMP:20260423T095222
CREATED:20231223T165713Z
LAST-MODIFIED:20231223T170033Z
UID:9012-1710374400-1710633599@utahpla.com
SUMMARY:Matt's Offroad Recovery Offroad Games
DESCRIPTION:Come join the Big event March 14th-16th\, 2024. This will be a 3 day fun field event. Come hangout with your favorite 14 YouTubers and 14 Off-Road YouTubers as they compete is the most difficult off-road terrain. \n*No refunds\, absent attendee’s pass will be donated to UPLA-Utah Public Lands Alliance “Keeping Utah Public Lands For Your Use.”* \n*Tickets\, Shirts\, Parking Passes\, and Event Packet will be shipped to you the first of February.*  \n\nAll attendees will receive the following: \n\n\nFree Entrance into Sand Hollow State Park\, Value: $60\n\n\nAccess to all Off Road Games Competitions\n\n\nFree Mad Moose shuttles around the event site\, Value $349\n\n\nFree Off-Road Games T-shirt\, Value $29.99\n\n\nFree Limited Edition Off Road Games Decal\, Value $5.99\n\n\nChance to enter prize drawing up to $50\,000 in **Giveaways!\n\n\nSpecial Discount Offer: Guided trail rides and side-by-side rentals from Mad Moose Rentals\n\n\nEvent information: \n\nDates: Thursday\, March 14th – Saturday\, March 16th\, 2023\n​Main Attraction: 14 YouTubers partner up with 14 YouTube Off-Roaders to traverse up Triple Sammy. Not only do they have to finish the trail\, they also have to complete 4 separate competitions!\nOther Stuff Going On: Vehicle Sprints\, Dead Pulling\, Off-Road Trail Racing\, Expo\, Free Side-By-Side Rides\, and MORR!\n\nUPLA will need to recruit help for this event soon\, watch for more details on how you can volunteer.
URL:https://utahpla.com/event/matts-offroad-recovery-offroad-games/
LOCATION:Sand Hollow State Park
ATTACH;FMTTYPE=image/png:https://utahpla.com/wp-content/uploads/2023/12/Offroad-Games-Pass.png
END:VEVENT
BEGIN:VEVENT
DTSTART;TZID=America/Denver:20240301T100000
DTEND;TZID=America/Denver:20240302T200000
DTSTAMP:20260423T095222
CREATED:20231223T161807Z
LAST-MODIFIED:20231230T154112Z
UID:8992-1709287200-1709409600@utahpla.com
SUMMARY:Salt Lake Offroad & Outdoor Expo
DESCRIPTION:The Salt Lake Off-Road & Outdoor Expo is more than just the largest exhibition of the latest in everything you need to equip your outdoor living lifestyle\, it is an awesome source of information on recreating in Utah and surrounding states\, and helping you stay informed about what you can do to keep our public lands accessible.
URL:https://utahpla.com/event/salt-lake-offroad-outdoor-expo/
LOCATION:Mountain America Expo Center\, 9575 State St\, Sandy\, Utah\, 84070
END:VEVENT
BEGIN:VEVENT
DTSTART;VALUE=DATE:20240229
DTEND;VALUE=DATE:20240301
DTSTAMP:20260423T095222
CREATED:20231223T162226Z
LAST-MODIFIED:20231223T162226Z
UID:8995-1709164800-1709251199@utahpla.com
SUMMARY:Writing Effective Comments to Keep Our Trails Open Training
DESCRIPTION:The National Environmental Policy Act (NEPA) plays a pivotal role by requiring federal agencies to assess the impact of their proposed actions. One crucial aspect of the NEPA process is the public comment period\, during which concerned individuals and organizations can provide feedback on proposed projects. Writing effective comments is a critical step in preserving access for all users to our public lands. UPLA together with BlueRibbon Coalition and Salt Lake Offroad Expo (SLOREX) are partnering to bring you a training seminar on how to write effective comments in NEPA actions. \nUnderstanding NEPA and Public Participation: NEPA\, enacted in 1970\, aims to integrate environmental considerations into federal decision-making processes. It mandates that federal agencies assess the environmental impact of proposed projects and involve the public in the decision-making process. Public participation is a cornerstone of NEPA\, as it recognizes the diverse perspectives and expertise that the public can bring to the table. \nThe Importance of Effective Comments: Effective comments play a vital role in influencing the outcome of NEPA actions. Agencies are required to consider and respond to substantive comments during the decision-making process\, making it crucial for comments to be well-reasoned\, fact-based\, and relevant to the environmental analysis. Well-crafted comments can highlight potential environmental concerns\, propose alternatives\, and contribute to a more comprehensive understanding of the project’s impact. \nChallenges in Comment Writing: Despite the importance of public participation\, many individuals and organizations face challenges in writing effective comments for NEPA actions. Common issues include a lack of understanding of the NEPA process\, technical complexities in project documentation\, and difficulties in navigating regulatory language. As a result\, comments may not effectively convey concerns\, suggestions\, or alternative solutions. \nThe Solution: UPLA\, BlueRibbon\, and SLOREX will be offering free training at the Mountain America Expo Center on February 29\, the day before SLOREX opens. The session will be recorded and professionally edited as a valuable online resource we can use in the future. \nSave the Date for now and Watch for more information about attending the session.
URL:https://utahpla.com/event/writing-effective-comments-to-keep-our-trails-open-training/
LOCATION:Mountain America Expo Center\, 9575 State St\, Sandy\, Utah\, 84070
ATTACH;FMTTYPE=image/png:https://utahpla.com/wp-content/uploads/2023/12/NEPA-Training-e1708284513295.png
END:VEVENT
BEGIN:VEVENT
DTSTART;VALUE=DATE:20240201
DTEND;VALUE=DATE:20240403
DTSTAMP:20260423T095222
CREATED:20231223T163726Z
LAST-MODIFIED:20231223T163726Z
UID:9003-1706745600-1712102399@utahpla.com
SUMMARY:DNR Grants Applications Open February 1\, 2024
DESCRIPTION:Grants for OHV Recreation open February 1 and close on April 2\, 2024 \nAvailable categories are: \n\nTrail Work\nAccess Protection\nEducation\nSearch and Rescue\nSnowmobile\nOHV Tourism\nOHV Land Acquisition\n\nThe state website will be updated shortly\, in the meantime contact Rachel Toker at DNR for further information. \nOHV Program Guide ’24
URL:https://utahpla.com/event/dnr-grants-applications-open-february-1-2024/
ATTACH;FMTTYPE=image/png:https://utahpla.com/wp-content/uploads/2023/12/OHV-Grant-Guide.png
END:VEVENT
BEGIN:VEVENT
DTSTART;TZID=America/Denver:20240117T080000
DTEND;TZID=America/Denver:20240120T170000
DTSTAMP:20260423T095222
CREATED:20230628T231458Z
LAST-MODIFIED:20231207T183315Z
UID:8616-1705478400-1705770000@utahpla.com
SUMMARY:Winter 4x4 Jamboree
DESCRIPTION:We invite you to join us for the Winter 4×4 Jamboree held in Hurricane/St. George\, Utah\, (2 hours from Las Vegas)! \nThis spectacular event features world-class rock crawling combined with gorgeous views of Zion National Park\, Pine Valley Mountain\, Sand Hollow Reservoir and more. We offer more that 35 different trails in and around the spectacular Southwestern Utah area. \nThe Winter 4×4 Jamboree is a non-competitive trail run event for high clearance 4×4 vehicles where groups of participants are led on rated trails by experienced trail leaders and helpers. Trails are rated on a 10-point scale\, where a rating of 1 would be for graded roads that may be easily traveled by most cars and a rating of 10 is for purpose-built vehicles (buggies) with sophisticated suspensions and drivetrains operated by expert drivers.
URL:https://utahpla.com/event/winter-4x4-jamboree/
LOCATION:Winter 4×4 Jamboree\, Hurricane\, UT
ATTACH;FMTTYPE=image/png:https://utahpla.com/wp-content/uploads/2023/06/Winter4x4-Jamboree.png
END:VEVENT
BEGIN:VEVENT
DTSTART;TZID=America/Denver:20231024T080000
DTEND;TZID=America/Denver:20231029T170000
DTSTAMP:20260423T095222
CREATED:20230628T231408Z
LAST-MODIFIED:20230628T231408Z
UID:8612-1698134400-1698598800@utahpla.com
SUMMARY:Ultra 4 Racing
DESCRIPTION:
URL:https://utahpla.com/event/ultra-4-racing/
END:VEVENT
BEGIN:VEVENT
DTSTART;TZID=America/Denver:20231018T080000
DTEND;TZID=America/Denver:20231022T170000
DTSTAMP:20260423T095222
CREATED:20230628T231329Z
LAST-MODIFIED:20230804T021836Z
UID:8607-1697616000-1697994000@utahpla.com
SUMMARY:UTV Takeover
DESCRIPTION:Takeover provides attendees an experience like no other event. With over 30 family-friendly activities you can participate in with your UTV\, Takeover is more about bringing the community together than having you walk around in a circle. Each of our events’ unique scenic backdrop makes these events a memorable experience whether you’re participating or taking pictures!
URL:https://utahpla.com/event/utv-takeover/
ATTACH;FMTTYPE=image/png:https://utahpla.com/wp-content/uploads/2023/06/UTV-Takeover-2023-Tour-Logo-500px.png
END:VEVENT
BEGIN:VEVENT
DTSTART;TZID=America/Denver:20230927T080000
DTEND;TZID=America/Denver:20230930T170000
DTSTAMP:20260423T095222
CREATED:20230628T231248Z
LAST-MODIFIED:20230629T165955Z
UID:8602-1695801600-1696093200@utahpla.com
SUMMARY:Color Country OHV Jamboree
DESCRIPTION:Another fun and colorful Color Country OHV Jamboree at the Iron County Fairgrounds in Parowan\, UT. Enjoy day rides\, night rides\, drawings\, and dinner. Everyone is welcome to extend their trip and catch a Shakespeare play (bard.org) in Cedar City.
URL:https://utahpla.com/event/color-country-ohv-jamboree/
LOCATION:Iron County Fairgrounds\, Parowan\, UT
ATTACH;FMTTYPE=image/jpeg:https://utahpla.com/wp-content/uploads/2023/06/Color-Country-OHV-Jamboree-poster_26709764-5056-A36F-23714AC500324A04.jpg
END:VEVENT
BEGIN:VEVENT
DTSTART;TZID=America/Denver:20230916T080000
DTEND;TZID=America/Denver:20230916T170000
DTSTAMP:20260423T095222
CREATED:20230628T231159Z
LAST-MODIFIED:20230629T163453Z
UID:8597-1694851200-1694883600@utahpla.com
SUMMARY:Paiute Trail Banquet
DESCRIPTION:Join us for an evening of food\, fun\, and prizes. We will be giving away a CanAm 570 OHV\, multiple firearms\, and many other great prizes. A delicious meal will be catered by The Main Event. We expect this year’s even to be better than ever. As always\, all proceeds from this event go directly to benefit the Paiute Trail System. \nThe Paiute Trail Committee is a group of volunteers comprised of OHV enthusiasts and members from the Bureau of Land Management\, U.S. Forest Service\, Utah State Department of Natural Resources\, and State Department of Parks and Recreation who work to maintain\, preserve and improve our trail system. You may have eaten at one of the many picnic tables we put up around the mountains or used a map at one of the trailhead kiosks we helped build. We supply helmets to law enforcement personnel to give out free of charge to kids who need one and would otherwise be without. We also work with our various land management partners to maintain the trails\, keep the current trail structure in place\, and add new trails we feel will improve the system. \nWe gladly volunteer our time to keep the trail system we love up and going. The Friends of the Paiute Trail Banquet is an excellent way for all of us to share in that effort. Please join us for this very fun evening!
URL:https://utahpla.com/event/paiute-trail-banquet/
ATTACH;FMTTYPE=image/png:https://utahpla.com/wp-content/uploads/2023/06/Paiute-Trail-Logo.png
END:VEVENT
BEGIN:VEVENT
DTSTART;TZID=America/Denver:20230807T080000
DTEND;TZID=America/Denver:20230810T170000
DTSTAMP:20260423T095222
CREATED:20230628T231000Z
LAST-MODIFIED:20231207T165825Z
UID:8588-1691395200-1691686800@utahpla.com
SUMMARY:Paiute Trail Jamboree
DESCRIPTION:We are excited for the jamboree this year having come off a great year in 2023. What a great crowd and wonderful time had by all. Please join us for the upcoming Paiute Trail Jamboree for more fun and more riding on the trail. \nSouth-Central Utah’s 2000+ mile Paiute ATV Trail System\, a trail system with no beginning and no end\, making it the largest in the nation! It passes through multiple towns and has side trails leading to others. Dirt Wheels magazine rated the Paiute ATV Trail as one of the top 10 trail systems in the country. It has been rated as one of the top 5 trails in the country by ATV Illustrated magazine. Many riders consider the Paiute Trial to be the TOP US trail system.
URL:https://utahpla.com/event/paiute-trail-jamboree/
ATTACH;FMTTYPE=image/png:https://utahpla.com/wp-content/uploads/2023/06/Paiute-Trail-Logo.png
END:VEVENT
END:VCALENDAR