BEGIN:VCALENDAR
VERSION:2.0
PRODID:-//Utah Public Lands Alliance - ECPv6.15.20//NONSGML v1.0//EN
CALSCALE:GREGORIAN
METHOD:PUBLISH
X-WR-CALNAME:Utah Public Lands Alliance
X-ORIGINAL-URL:https://utahpla.com
X-WR-CALDESC:Events for Utah Public Lands Alliance
REFRESH-INTERVAL;VALUE=DURATION:PT1H
X-Robots-Tag:noindex
X-PUBLISHED-TTL:PT1H
BEGIN:VTIMEZONE
TZID:America/Denver
BEGIN:DAYLIGHT
TZOFFSETFROM:-0700
TZOFFSETTO:-0600
TZNAME:MDT
DTSTART:20250309T090000
END:DAYLIGHT
BEGIN:STANDARD
TZOFFSETFROM:-0600
TZOFFSETTO:-0700
TZNAME:MST
DTSTART:20251102T080000
END:STANDARD
BEGIN:DAYLIGHT
TZOFFSETFROM:-0700
TZOFFSETTO:-0600
TZNAME:MDT
DTSTART:20260308T090000
END:DAYLIGHT
BEGIN:STANDARD
TZOFFSETFROM:-0600
TZOFFSETTO:-0700
TZNAME:MST
DTSTART:20261101T080000
END:STANDARD
BEGIN:DAYLIGHT
TZOFFSETFROM:-0700
TZOFFSETTO:-0600
TZNAME:MDT
DTSTART:20270314T090000
END:DAYLIGHT
BEGIN:STANDARD
TZOFFSETFROM:-0600
TZOFFSETTO:-0700
TZNAME:MST
DTSTART:20271107T080000
END:STANDARD
END:VTIMEZONE
BEGIN:VEVENT
DTSTART;VALUE=DATE:20260423
DTEND;VALUE=DATE:20260426
DTSTAMP:20260421T061100
CREATED:20260304T175313Z
LAST-MODIFIED:20260304T175313Z
UID:10349-1776902400-1777161599@utahpla.com
SUMMARY:RedRok Rally
DESCRIPTION:MOAB EVENT\nAPRIL 23-25\, 2026\nJoin us and explore everything Moab has to offers on the trails. Held at the famous Old Spanish Trail Arena\, come ride the iconic Moab tails with some of the Industry’s best\, experience contests\, sponsor giveaways\, nightly raffles\, $50k main raffle\, and more! \n\n\n\n\n\n\nLocation: Old Spanish Trail Arena (3641 S Highway 191 Moab\, UT 84532)
URL:https://utahpla.com/event/redrok-rally/
ATTACH;FMTTYPE=image/png:https://utahpla.com/wp-content/uploads/2026/03/Image-3-4-26-at-10.50-AM.png
END:VEVENT
BEGIN:VEVENT
DTSTART;VALUE=DATE:20260502
DTEND;VALUE=DATE:20260504
DTSTAMP:20260421T061100
CREATED:20260304T170951Z
LAST-MODIFIED:20260304T171102Z
UID:10325-1777680000-1777852799@utahpla.com
SUMMARY:Trail Hero Off-Road Car Show
DESCRIPTION:EVENT SCHEDULE\n\nSATURDAY 5/2 – Offroad Car Show\, Vendor Show\, & After Party  \n8a-3p: Trail Riding Meet Ups \n8a-12p: Offroad Car Show & Vendor Show First Half \nBREAK for Lunch & Casino Fun (Inside during heatwave hours outside) \n4p-8p: Offroad Car Show & Vendor Show Second Half \n7p: Dinner Options & Casablanca Casino Entertainment on Property \n10% OFF Hotel Rooms with this code: 1TRAIL5 at Casablanca 3TRAIL5 for Virgin River \nSUNDAY 5/3 – Car Show\, Vendor Show\, & After Party  \n8a-3a: Trail Riding Meet Ups \n8a-12p: Offroad Car Show & Vendor Show First Half \nBREAK for Lunch & Casino Fun (Inside during heatwave hours outside) \n4p-8p: Offroad Car Show & Vendor Show Second Half \n4pm: Car Show Judging \n5pm: Offroad Car Show Judging \n7pm: Car Show Winner Announcements (Showroom) \n8pm: After Party: Dinner Options & Casablanca Casino Entertainment on Property \n8pm-10pm: Suggested Car Show Move Out (All vehicles out by 10pm) \n 
URL:https://utahpla.com/event/trail-hero-off-road-car-show/
ATTACH;FMTTYPE=image/png:https://utahpla.com/wp-content/uploads/2026/03/Image-3-4-26-at-10.07-AM.png
END:VEVENT
BEGIN:VEVENT
DTSTART;VALUE=DATE:20260507
DTEND;VALUE=DATE:20260511
DTSTAMP:20260421T061100
CREATED:20260303T230302Z
LAST-MODIFIED:20260303T230302Z
UID:10318-1778112000-1778457599@utahpla.com
SUMMARY:Raptors on the Rocks
DESCRIPTION:THE Raptor Event of the Year\n\nIn our 6th year\, ROTR ’26 is going to be the best one yet! Great trails for the Raptor\, amazing scenery in Moab\, UT and some of the best people in the offroad community. \n\n\n\n\n\n4 Days of Amazing Trails and Scenery\n\nOur trails aren’tavailable anywhere else. We curate the trails\, pre run them\, and ensure they’re the best places to run during the 2nd weekend in May. We’ve got a couple of new trails again this year\, along with several of our more popular trails returning due to demand. \n\n\n\n\n\nTwo nights of meals\n\nAs an attendee\, you’ll get two nights of meals included! As we’ve done for the past 5 years\, Saturday night is a special one for ROTR. It’s our annual BBQ party with prizes and awards. And new this year\, we’re hosting a dinner on Friday night as well! \n\n\n\n\n\nNew for 2026 – Media Routes! Stay tuned!\n\nHave you been wanting to get all the epic\, amazing imagery of you and your Raptor in Moab? This is the best way to do it. Special routes with a focus on jumps\, drifts and scenery. We’ll have a media person along to help capture the good times! \nLimited space for these special days. Additional cost required. More info to come. \n\n\n\n\n\nTrails\, Party\, Event Shirts\, Swag\n\nWe provide guided trails with GPX maps\, a vendor area\, a big party for everyone to enjoy (working on a big surprise for the party)\, event shirts and swag. Oh\, and some of the best attendees on the planet. Our guests come from all across the country. Come and join in the fun and be a part of something amazing. \n\n\n\n\n\nThe Perfect Location for Raptors\n\nMoab is a special place. Landscape that is unique. Some say it’s like driving on Mars. But beyond the trails\, Moab is home to 2 National Parks and a couple of amazing Utah State Parks. Come and run with us and take time to see the sites!
URL:https://utahpla.com/event/raptors-on-the-rocks/
ATTACH;FMTTYPE=image/png:https://utahpla.com/wp-content/uploads/2026/03/Image-3-3-26-at-3.59-PM.png
END:VEVENT
BEGIN:VEVENT
DTSTART;VALUE=DATE:20260509
DTEND;VALUE=DATE:20260510
DTSTAMP:20260421T061100
CREATED:20260304T171929Z
LAST-MODIFIED:20260304T171929Z
UID:10328-1778284800-1778371199@utahpla.com
SUMMARY:Supercross Live
DESCRIPTION:Round 17\n\nMAY09\,2026\n4:30PM\nDoors open at 10:00AM\n\n\nRice-Eccles Stadium\n451 S. 1400 East\nSalt Lake City\, Utah
URL:https://utahpla.com/event/supercross-live/
ATTACH;FMTTYPE=image/png:https://utahpla.com/wp-content/uploads/2026/03/Image-3-4-26-at-10.13-AM.png
END:VEVENT
BEGIN:VEVENT
DTSTART;VALUE=DATE:20260516
DTEND;VALUE=DATE:20260517
DTSTAMP:20260421T061100
CREATED:20260304T172414Z
LAST-MODIFIED:20260304T172414Z
UID:10331-1778889600-1778975999@utahpla.com
SUMMARY:Barricade Go Topless Day
DESCRIPTION:We’re excited to once again support Barricade Go Topless Day®. Our 2026 event will be held on Saturday\, May 16th\, marking the 19th annual celebration of this cherished Jeep® tradition. Jeep enthusiasts worldwide will kick off the start of Spring by taking their tops off\, with events spanning the globe celebrating the biggest Jeep event in the world. \nFrom 4×4 trail cleanups to Jeep parades and show-and-shines\, Jeepers everywhere proudly displayed their Go Topless Day spirit. In 2025\, tens of thousands participated\, raising an impressive $417\,000 for charity\, bringing the total amount raised since 2019 to over $1\,400\,000—a milestone the entire Jeep community can take pride in. \nBarricade is honored to be part of this incredible tradition\, and we deeply appreciate the clubs that supported registered 501(c) organizations making a positive impact in their local communities. As part of our commitment to these efforts\, Barricade is proud to match up to $500 for any event that raises a minimum of $500 towards a registered 501(c) charity. We encourage everyone to celebrate with fun\, safety\, and responsibility. \nThank you for your continued support!
URL:https://utahpla.com/event/barricade-go-topless-day/
ATTACH;FMTTYPE=image/png:https://utahpla.com/wp-content/uploads/2026/03/Image-3-4-26-at-10.21-AM.png
END:VEVENT
BEGIN:VEVENT
DTSTART;VALUE=DATE:20260522
DTEND;VALUE=DATE:20260524
DTSTAMP:20260421T061100
CREATED:20260304T172854Z
LAST-MODIFIED:20260304T172854Z
UID:10334-1779408000-1779580799@utahpla.com
SUMMARY:Delta Classic Rock Crawl
DESCRIPTION:Details\n\n\n\n\n\n\n\n\n\n\nEvent by Delta Classic Rock Crawl and Salt Lake Off-Road & Outdoor Expo\n\n\n\n\n\n\n\n\n\n\n\n\n187 S Manzanita Ave\, Delta\, UT 84624-8837\, United States\n\n\n\n\n\n\n\n\n\n\n\n\nDuration: 2 days\n\n\n\n\n\n\n\n\n\n\n\nPublic  · Anyone on or off Facebook\n\n\n\n\n\n\n\nCome out for some “old school” rock crawling action. Event includes class divisions ranging from mild to wild and a rock race! Spectators get in free with free camping on-site.Event starts at 1:00pm Friday and 10:00am Saturday.
URL:https://utahpla.com/event/delta-classic-rock-crawl/
ATTACH;FMTTYPE=image/png:https://utahpla.com/wp-content/uploads/2026/03/Image-3-4-26-at-10.26-AM.png
END:VEVENT
BEGIN:VEVENT
DTSTART;VALUE=DATE:20260527
DTEND;VALUE=DATE:20260531
DTSTAMP:20260421T061100
CREATED:20260304T173305Z
LAST-MODIFIED:20260304T173305Z
UID:10337-1779840000-1780185599@utahpla.com
SUMMARY:Outlaw ATV Jamboree
DESCRIPTION:Adult (18+) = $125Youth (5-17) = $35Youth (0-4) = FREE\n\n\nRegistration includes: 3 Days of Guided Trail Rides\, *Event T-shirt\, 3 Breakfast\, 2 Dinners\, and Daily Prize Drawing\n\n\n*Event T-Shirts are not guaranteed for regisrations after May 1st \n\n\n\n\n\n\n\n\n\n\n\n\n\n\n\n\n\n\n\n\n\n\n\n\n\n\n\n\n\n\nABOUT THE Outlaw ATV Jamboree\n\n\nJoin us for the 12th Annual — Outlaw ATV Jamboree located in Vernal\, Utah. This 3-day event is scheduled for May 27 – 30\, 2026. Registration will open at 12:01am on February 1\, 2026. For best ride selection we recommend registering on February 1st. Registration includes: event t-shirt\, three breakfasts\, two dinners\, entry into the daily prize drawings\, guided trail rides\, and memories for a lifetime.  \n​ \nYou will love the thrill of the riding where the Outlaws once rode and the dinosaurs roamed. Each trail is unique in both in scenery and skill level. We have easy going scenic rides to heart pumping\, adrenaline filled rock crawling trails like Red Mountain. Guided trails will have limited machines per trail during the event. 
URL:https://utahpla.com/event/outlaw-atv-jamboree/
ATTACH;FMTTYPE=image/png:https://utahpla.com/wp-content/uploads/2026/03/Image-3-4-26-at-10.31-AM.png
END:VEVENT
BEGIN:VEVENT
DTSTART;VALUE=DATE:20260609
DTEND;VALUE=DATE:20260613
DTSTAMP:20260421T061100
CREATED:20260304T182733Z
LAST-MODIFIED:20260304T182733Z
UID:10365-1780963200-1781308799@utahpla.com
SUMMARY:Beaver County ATV Jamboree
DESCRIPTION:DISCOVER\n\n\n\n\nAn unforgettable off-road adventure in Beaver County\, Utah\, where enthusiasts can explore our exciting OHV trail network and connect with fellow riders from across the nation.
URL:https://utahpla.com/event/beaver-county-atv-jamboree/
ATTACH;FMTTYPE=image/png:https://utahpla.com/wp-content/uploads/2026/03/Image-3-4-26-at-11.21-AM.png
END:VEVENT
BEGIN:VEVENT
DTSTART;VALUE=DATE:20260611
DTEND;VALUE=DATE:20260614
DTSTAMP:20260421T061100
CREATED:20260304T174128Z
LAST-MODIFIED:20260304T174128Z
UID:10343-1781136000-1781395199@utahpla.com
SUMMARY:Vernal Rock Rally
DESCRIPTION:Get ready for the wildest ride in the West — Vernal Rock Rally 2026 is coming! Set in Utah’s rugged red rock backcountry\, this event unites off-road enthusiasts\, rock crawling legends\, and adventure-seekers for a multi-day celebration of traction\, adrenaline\, and freedom. From guided trail rides to vendor showcases\, it’s an unforgettable off-road experience with some of the best scenery anywhere.
URL:https://utahpla.com/event/vernal-rock-rally/
ATTACH;FMTTYPE=image/png:https://utahpla.com/wp-content/uploads/2026/03/Image-3-4-26-at-10.38-AM.png
END:VEVENT
BEGIN:VEVENT
DTSTART;VALUE=DATE:20260617
DTEND;VALUE=DATE:20260620
DTSTAMP:20260421T061100
CREATED:20260304T180101Z
LAST-MODIFIED:20260304T180101Z
UID:10356-1781654400-1781913599@utahpla.com
SUMMARY:ATV/UTV Jamboree
DESCRIPTION:The ATV Jamboree takes place every June. \nCome be a part of the longest-running ATV/UTV Event in America—Established in 1987. \nWe’re excited for you to join us this year in Millard County for the National ATV Jamboree on June 17-19\, 2026.
URL:https://utahpla.com/event/atv-utv-jamboree/
ATTACH;FMTTYPE=image/png:https://utahpla.com/wp-content/uploads/2026/03/Image-3-4-26-at-10.58-AM.png
END:VEVENT
BEGIN:VEVENT
DTSTART;VALUE=DATE:20260617
DTEND;VALUE=DATE:20260621
DTSTAMP:20260421T061100
CREATED:20260304T174649Z
LAST-MODIFIED:20260304T174649Z
UID:10346-1781654400-1781999999@utahpla.com
SUMMARY:Bronco Safari
DESCRIPTION:Join the Utah Bronco Club for an unforgettable off-road experience in Vernal\, Utah\, from June 17-20th. Get ready for thrilling trails and camaraderie!
URL:https://utahpla.com/event/bronco-safari/
ATTACH;FMTTYPE=image/png:https://utahpla.com/wp-content/uploads/2026/03/Image-3-4-26-at-10.45-AM.png
END:VEVENT
BEGIN:VEVENT
DTSTART;VALUE=DATE:20260619
DTEND;VALUE=DATE:20260621
DTSTAMP:20260421T061100
CREATED:20260304T175610Z
LAST-MODIFIED:20260304T175625Z
UID:10352-1781827200-1781999999@utahpla.com
SUMMARY:Tread Off Road Expo
DESCRIPTION:Southern Utah’s Only Off-Road Expo\n\n\n\n\nSouthern Utah is an off-road Mecca\nThe place where gear earns its reputation. Endless slickrock\, deep sand\, mountain terrain\, and wide-open desert trails leave no room for weak parts\, questionable equipment\, or empty promises. Out here\, only what truly works survives. \nThe TREAD Off-Road Expo drops you straight into that environment\, surrounded by proven brands\, builders\, and manufacturers ready to talk shop\, cut deals\, and put real product in your hands. This is your chance to see the latest gear up close\, ask real questions\, and score expo-only pricing you won’t find online. \nWalk the booths\, shake hands with the people who build it\, and leave with upgrades meant to be run hard in the same terrain that surrounds you. If you’re looking to upgrade your rig\, stretch your dollar\, and experience off-road at its core—this is the place to do it.
URL:https://utahpla.com/event/10352/
ATTACH;FMTTYPE=image/png:https://utahpla.com/wp-content/uploads/2026/03/Image-3-4-26-at-10.53-AM.png
END:VEVENT
BEGIN:VEVENT
DTSTART;VALUE=DATE:20260805
DTEND;VALUE=DATE:20260809
DTSTAMP:20260421T061100
CREATED:20260304T184244Z
LAST-MODIFIED:20260304T184244Z
UID:10374-1785888000-1786233599@utahpla.com
SUMMARY:Paiute Trail Jamboree
DESCRIPTION:Wednesday\, August 5 – Saturday\, August 8\, 2026\nWhere: Marysvale Community Center and Marysvale City Park 255 E. 100 North\, Marysvale\, Utah 84750 \nSchedule of Events\nTuesday\, August 4\, 2026\n\n\n6pm – As you’re arriving in Marysvale and getting ready for Registration and the Poker Ride on Wednesday\, check back here for a list of Hours for the local businesses and any events in town. Paint night under the tent-All supplies will be provided. Come join usfor a fun activity and get to know one another. Under the white tent in the Marysvale Park. \n\n\nWednesday\, August 5\, 2026\n\n\n7 am -11:30 am – Registration Starts & Ride sign-ups in the Marysvale Community Center 255 E. 100 North\, Marysvale\, Utah 84750 \n\n\n8-10 am – Poker card purchase $5.00 per card or 5 for $20.00 donation 2 prizes awarded- $500.00 High hand & $300.00 Low hand \n\n\n8-10 am – Pam’s Country Kitchen creations will be in the Registration area for you to arrange for box lunches for the ride days if you wish. Her delicious boxed lunches include a hoagie sandwich with your choice of meat & cheese and come with a water\, condiments\, chips\, a cheese stick and a cookie\, for $9.00 and they will deliver them to the park before the rides. \n\n\n10 am – Self-guided Poker ride leaves. Follow the cones or the map provided on the beautiful Paiute Trail. Go at your own pace\, stop for lunch (on your own) take some pictures and enjoy the scenery. \n\n\n3 pm (approximately) – Return to The Marysvale Park for your last punch. \n\n\n4 pm – BINGO in the Park. Free single card to all registered for the Jamboree additional cards available for purchase. Bring your Daubers to mark your cards (they will be available for purchase) and have some fun with us. \n\n\n5 pm – Opening ceremonies under the tent in the City Park. \n\n\n6 pm – Dinner $14.00 (optional meal ticket required) \n\n\n7 pm – Door prizes\, 50/50\, poker prizes awarded. \n\n\n9 pm Night ride- for anyone wishing to join meet in the park\, be a little early 9 pm is leave time. \n\n\nThursday\, August 6\, 2026\n\n\n6 am – Registration table opens in Marysvale City Park \n\n\n7 am – Breakfast $10.00 (optional meal ticket required) \n\n\n8 am – Rides line up & start to depart. Please check the board for the exact time. Get in line behind your guide before departure time. If you need any information for your ride\, it will be posted on the board. Enjoy your ride and be safe. \n\n\n4 pm – BINGO in the Park. Free single card to all registered for the Jamboree\, additional cards available for purchase. Bring your Daubers to mark your cards (they will be available for purchase) and have some fun with us. \n\n\n5:30 – Dinner $10.00 (optional meal ticket required) \n\n\n6:30 – Door Prizes\, 50/50 give away \n\n\n9 pm -Night ride- for anyone wishing to join\, meet in the park and be a little early\, 9 pm is the departure time. \n\n\nFriday\, August 7\, 2026\n\n\n7 am – Registration table opens in Marysvale City Park \n\n\n8 am – Breakfast $8.00 (optional meal ticket required) \n\n\nToday is the “EVENTS IN THE PARK DAY”. The schedule of events will be posted as we confirm them. There will be Treasure Hunt clues\, King of the Hill\, Blind Man’s Bluff\, an obstacle course\, a kids’ mud run\, a belly flop contest\, and a corn hole tournament. Food trucks and vendors in the park. Fun for all. \n\n\n5 pm – Dinner $14.00 (optional meal ticket required) \n\n\n6 pm – Pie auction fundraiser-pies made and donated by the people of Marysvale. Door prizes give aways and field day winners announced\, and medals given. \n\n\nSaturday\, August 8\, 2026\n\n\n6 am – Registration table opens in Marysvale City Park \n\n\n7 am – Breakfast $12.00 (optional meal ticket required) \n\n\n8 am – Rides line up & start to depart. Please check the board for the exact time\, Get in line behind your guide before departure time. If there is any information you need for your ride it will be posted on the board. Enjoy your ride and be safe. \n\n\n5 pm – Dinner $14.00 (optional meal ticket required) \n\n\n6 pm – Final night of door prizes\, 50/50\, Bucket raffle and gun raffle give away.
URL:https://utahpla.com/event/paiute-trail-jamboree-2/
ATTACH;FMTTYPE=image/png:https://utahpla.com/wp-content/uploads/2026/03/Image-3-4-26-at-11.41-AM.png
END:VEVENT
BEGIN:VEVENT
DTSTART;VALUE=DATE:20260812
DTEND;VALUE=DATE:20260816
DTSTAMP:20260421T061100
CREATED:20260304T180430Z
LAST-MODIFIED:20260304T180430Z
UID:10359-1786492800-1786838399@utahpla.com
SUMMARY:Bryce ATV Rally
DESCRIPTION:17th Annual Bryce ATV/UTV Rally August 12-15\, 2026 Panguitch\, UT 435-676-8585\nGeneral Information: Headquarters for the events will be based out of the County Fair Building\, 745 North Main\, Panguitch. Registration fee will be $150 until August 1st and $160.00 thereafter. Registration Includes: 3 Breakfasts\, 1 Dinner on Saturday\,  a T-Shirt or a hat\, and all entrants will be registered to win a grand prize. ( Cash $3\,000\, $1\,000\, (2) $500 1 free registration for the next rally) Registration: Call 435-676-8585 for more information.  Tentative Schedule of Events: \nWednesday\, August 12- \n\n3:00 p.m. Check In\n6:00 p.m. Opening Social & Bingo $1 per card\n\n*Thursday\, August 13 – \n\n6:00 – 7:30 a.m. – Breakfast at the fair building –\n8:00 a.m. – Early departure rides leave\n8:30 a.m. – Depart for remaining rides \n6:00 p.m. – ATV Parade\n6:30 p.m. – Night Ride\n\n*Friday\, August 14 – \n\n6:00 – 7:30 a.m. – Breakfast at the fair building – \n8:00 a.m. – Early departure rides leave\n8:30 a.m. – Depart for remaining ride\n\n*Saturday\, August 15 – \n\n6:00-7:30 a.m. – Breakfast at the Fair Building – (Included in Registration)\n8:00 a.m. – Depart for rides\n6:00 p.m. – Dinner\, Poker Run Prizes and Drawing for the $3\,000 cash grand prize at the Fair Building –
URL:https://utahpla.com/event/bryce-atv-rally/
ATTACH;FMTTYPE=image/png:https://utahpla.com/wp-content/uploads/2026/03/Image-3-4-26-at-11.02-AM.png
END:VEVENT
BEGIN:VEVENT
DTSTART;VALUE=DATE:20260914
DTEND;VALUE=DATE:20260919
DTSTAMP:20260421T061100
CREATED:20260304T181249Z
LAST-MODIFIED:20260304T181249Z
UID:10362-1789344000-1789775999@utahpla.com
SUMMARY:Rocky Mountain ATV Jamboree
DESCRIPTION:Rocky Mountain Jamboree\n\n\n\n\n\n\nYour Off-Road Adventure\n\n\n\n\nThe Rocky Mountain ATV Jamboree is a massive off-road event held annually in Richfield\, Utah. This event attracts hundreds of ATV and UTV enthusiasts from across the country. It’s a week-long celebration of off-road riding in the mountains\, featuring guided trail rides\, and social events. The included trails are from the Paiute Trail System\, Gooseberry and Great Western Trail. \nThe Jamboree offers a diverse range of trails\, catering to riders of all skill levels. From beginner-friendly paths to challenging technical trails\, there’s something for everyone. The event also includes a variety of activities\, such as vendor expos\, live music\, a light parade\, and some evening entertainment. \nThe Rocky Mountain ATV Jamboree in Richfield\, Utah is more than just an off-road event; it’s a community of like-minded individuals who share a passion for outdoor adventure. It’s a chance to make new friends\, explore stunning landscapes\, and create unforgettable memories.
URL:https://utahpla.com/event/rocky-mountain-atv-jamboree/
ATTACH;FMTTYPE=image/png:https://utahpla.com/wp-content/uploads/2026/03/Image-3-4-26-at-11.09-AM.png
END:VEVENT
BEGIN:VEVENT
DTSTART;VALUE=DATE:20260928
DTEND;VALUE=DATE:20261002
DTSTAMP:20260421T061100
CREATED:20260304T183332Z
LAST-MODIFIED:20260304T183332Z
UID:10368-1790553600-1790899199@utahpla.com
SUMMARY:Trail Hero
DESCRIPTION:The Monster Energy TRAIL HERO Powered by Greater Zion\, is a family orientated off-roading event that takes place this September 28-October 3\, 2026\, two hours north of Las Vegas in the beautiful Hurricane\, Utah. Trail Hero’s off-roading event focuses on trail riding and rock crawling across amazing landscapes with large mountainscape backdrops. \nJoin us to have the most fun you can have in 4-wheel drive! Come for one day or the whole week! This is one event you are sure to create a lot of memories and new friendships.  \nRegistration opens May 1st
URL:https://utahpla.com/event/trail-hero-2/
ATTACH;FMTTYPE=image/png:https://utahpla.com/wp-content/uploads/2026/03/Image-3-4-26-at-11.29-AM.png
END:VEVENT
BEGIN:VEVENT
DTSTART;VALUE=DATE:20261020
DTEND;VALUE=DATE:20261026
DTSTAMP:20260421T061100
CREATED:20260304T183650Z
LAST-MODIFIED:20260304T183650Z
UID:10371-1792454400-1792972799@utahpla.com
SUMMARY:UTV Takeover Hurricane
DESCRIPTION:Takeover provides attendees an experience like no other event. With over 30 family-friendly activities you can participate in with your UTV\, Takeover is more about bringing the community together than having you walk around in a circle. Each of our events’ unique scenic backdrop makes these events a memorable experience whether you’re participating or taking pictures!
URL:https://utahpla.com/event/utv-takeover-hurricane/
ATTACH;FMTTYPE=image/png:https://utahpla.com/wp-content/uploads/2026/03/Image-3-4-26-at-11.35-AM.png
END:VEVENT
BEGIN:VEVENT
DTSTART;VALUE=DATE:20261023
DTEND;VALUE=DATE:20261025
DTSTAMP:20260421T061100
CREATED:20260304T184537Z
LAST-MODIFIED:20260304T184537Z
UID:10377-1792713600-1792886399@utahpla.com
SUMMARY:Halloween Howl
DESCRIPTION:Location: Marysvale Community Center/ Marysvale City Park 255 E. 100 N.\, Marysvale\, Utah 84750 \nSchedule of Events\nFriday\, October 23\, 2026 (new this year)\n\n\n7 pm – Scarry Night Ride \n\n\nSaturday\, October 24\, 2026\n\n\n8-10 am – Registration \n\n\n8-10 am – Poker card sales \n\n\n9-10 am – Breakfast \n\n\n10 am – Ride Departs \n\n\n3:00 pm – Trunk or Treat \n\n\n4:00pm – Dinner \n\n\n5:00pm – 50/50 Drawing\, Poker Run Award
URL:https://utahpla.com/event/halloween-howl/
ATTACH;FMTTYPE=image/png:https://utahpla.com/wp-content/uploads/2026/03/Image-3-4-26-at-11.43-AM.png
END:VEVENT
END:VCALENDAR