BEGIN:VCALENDAR
VERSION:2.0
PRODID:-//Utah Public Lands Alliance - ECPv6.15.20//NONSGML v1.0//EN
CALSCALE:GREGORIAN
METHOD:PUBLISH
X-WR-CALNAME:Utah Public Lands Alliance
X-ORIGINAL-URL:https://utahpla.com
X-WR-CALDESC:Events for Utah Public Lands Alliance
REFRESH-INTERVAL;VALUE=DURATION:PT1H
X-Robots-Tag:noindex
X-PUBLISHED-TTL:PT1H
BEGIN:VTIMEZONE
TZID:America/Denver
BEGIN:DAYLIGHT
TZOFFSETFROM:-0700
TZOFFSETTO:-0600
TZNAME:MDT
DTSTART:20250309T090000
END:DAYLIGHT
BEGIN:STANDARD
TZOFFSETFROM:-0600
TZOFFSETTO:-0700
TZNAME:MST
DTSTART:20251102T080000
END:STANDARD
BEGIN:DAYLIGHT
TZOFFSETFROM:-0700
TZOFFSETTO:-0600
TZNAME:MDT
DTSTART:20260308T090000
END:DAYLIGHT
BEGIN:STANDARD
TZOFFSETFROM:-0600
TZOFFSETTO:-0700
TZNAME:MST
DTSTART:20261101T080000
END:STANDARD
BEGIN:DAYLIGHT
TZOFFSETFROM:-0700
TZOFFSETTO:-0600
TZNAME:MDT
DTSTART:20270314T090000
END:DAYLIGHT
BEGIN:STANDARD
TZOFFSETFROM:-0600
TZOFFSETTO:-0700
TZNAME:MST
DTSTART:20271107T080000
END:STANDARD
END:VTIMEZONE
BEGIN:VEVENT
DTSTART;VALUE=DATE:20260423
DTEND;VALUE=DATE:20260426
DTSTAMP:20260423T110219
CREATED:20260304T175313Z
LAST-MODIFIED:20260304T175313Z
UID:10349-1776902400-1777161599@utahpla.com
SUMMARY:RedRok Rally
DESCRIPTION:MOAB EVENT\nAPRIL 23-25\, 2026\nJoin us and explore everything Moab has to offers on the trails. Held at the famous Old Spanish Trail Arena\, come ride the iconic Moab tails with some of the Industry’s best\, experience contests\, sponsor giveaways\, nightly raffles\, $50k main raffle\, and more! \n\n\n\n\n\n\nLocation: Old Spanish Trail Arena (3641 S Highway 191 Moab\, UT 84532)
URL:https://utahpla.com/event/redrok-rally/
ATTACH;FMTTYPE=image/png:https://utahpla.com/wp-content/uploads/2026/03/Image-3-4-26-at-10.50-AM.png
END:VEVENT
END:VCALENDAR